Workbook

Sheet 1 Antrag Zuwendung
A2: Bezirksregierung Köln
A3: EU-Geschäftsstelle
A4: Zeughausstraße 2-8
A5: 50667 Köln
A7: DEMOKRATIE-PROJEKT
A8: Antrag auf Gewährung einer Zuwendung
A9: ( Fehlbedarfsfinanzierung )
A12: 1. Name Antragsteller/in | H12: =IF(C12="",Tabelle2!$A$1,"") -> Bitte die gelb markierten Felder auf diesem Tabellenblatt "1 Antrag Zuwendung" und dem Tabellblatt "2 Detailkosten" ausfüllen!
A13: Name der Schule:
A14: Straße/ Hausnummer
A15: PLZ/ Ort
A16: Auskunft erteilt:
A17: Telefonnummer
A18: E-Mail
A19: IBAN
A20: Kreditinstitut
A22: 2. Maßnahme
A23: Projekttitel
A26: Geplanter Durchführungszeitraum: | C26: von | E26: bis | H26: =IF(D26="",Tabelle2!A11,"") -> Bitte nur auf die Zukunft beziehen - gerne als Weiterführung des letzten Aktivitäten
A28: Projektpartner-Name | C28: Anschrift | F28: Email
A35: Projektbeschreibung (Inhalt, Zusammenhang mit Europa und Demokratiebildung bzw. Teilhabe der Jugend)
A38: Langfristige Ziele, die mit dem Projekt verbunden sind? (Dient das Projekt z.B. dem Aufbau einer Schulpartnerschaft oder steht es in Zusammenhang mit der Beantragung eines KA2 Projekts?
A41: 3. Zielgruppe
A43: Name der Projektgruppe (z.B. Fach, Klasse, Projektleiter/in, Fantasiename)
A45: Zielgruppen:
A47: Geplante Aktivitäten im Rahmen des Projekts?
A51: Kompetenzen, die durch das Projekt geförderdert werden:
A55: Wir wird über das Projekt, die Aktivitäten und Ziele informiert?
A60: 4. Finanzierungsplan
A62: 4.1 Geplante Projektkosten | F62: ='2 Detailkosten'!C35 -> 0 | G62: =IF(F62=0,Tabelle2!A13,"") -> Bitte graue Felder nicht ausfüllen - beinhalten Formeln, die Informationen aus dem Blatt 2 Detailkosten beinhalten.
A63: (Tabellenblatt "Detailkosten" ausfüllen - Summe überträgt sich automatisch!)
A64: 4.2 Grundsätzlich max. zuwendungsfähige Ausgaben | F64: 3000
A66: Weiterer Fehlbedarf | G66: =IF(F66="","bitte ausfüllen: tatsächlicher Betrag oder 0"," ") -> bitte ausfüllen: tatsächlicher Betrag oder 0
A67: Bitte erläutern, wie dieser gedeckt wird!
A69: Zuwendung | F69: =IF(F62<=F64,F62,F64) -> 0
A72: 5. Erklärungen
A73: Die Antragstellerin/Der Antragsteller erklärt, dass
A74: 5.1 das Projekt noch nicht begonnen wurde und auch vor Bekanntgabe des Zuwendungs-
A75: bescheides nicht begonnen wird; als Vorhabenbeginn ist grundsätzlich der Abschluss eines der
A76: Ausführung zuzurechnenden Lieferungs- oder Leistungsvertrages zu werten,
...

Sheet 2 Detailkosten
A1: Sachkosten - Vorabplanung
C2: vorab geplant | D2: tatsächlich ausgezahlt | F2: Nach Projektabschluss:
A3: Pos. | B3: Beschreibung der Kosten | C3: Betrag Planung | D3: Beleg-Nr* | E3: Betrag IST | F3: Belege bitte durchnummerieren und hier mit angeben.
A4: 1
F18: =IF(B18<>"",Tabelle2!A16,"")
A20: Summe Sachkosten | C20: =SUM(C4:C19) -> 0 | E20: =SUM(E4:E19) -> 0
B21: * Belege bitte sammeln und elektronisch speichern und bei Bedarf / Prüfung vorlegen.
A23: Reisekosten Plan
A25: Anzahl | B25: Lehrkraft | C25: Anzahl Tage der Mobilität inkl. An- und Abreise | D25: In Euro
E27: =IF(B27<>"",Tabelle2!A16,"")
D28: =SUM(D26:D27) -> 0
A30: Anzahl | B30: Lernende | C30: Anzahl Tage der Mobilität inkl. An- und Abreise | D30: in Euro
D33: =SUM(D31:D32) -> 0
A35: Summe Reisekosten | D35: =D28+D33 -> 0
A41: Reisekosten realisiert | C41: Nach Abschluß des Projekts ausfüllen!
A43: Anzahl | B43: Lehrkräfte | C43: Anzahl Tage der Mobilität inkl. An- und Abreise | D43: In Euro
D46: =SUM(D44:D45) -> 0
A48: Anzahl | B48: Lernende | C48: Anzahl Tage der Mobilität inkl. An- und Abreise | D48: in Euro
D51: =SUM(D49:D50) -> 0
A53: Summe Reisekosten | D53: =D46+D51 -> 0

Sheet Tabelle2
A1: Bitte die gelb markierten Felder auf diesem Tabellenblatt "1 Antrag Zuwendung" und dem Tabellblatt "2 Detailkosten" ausfüllen!
A11: Bitte nur auf die Zukunft beziehen - gerne als Weiterführung des letzten Aktivitäten
A13: Bitte graue Felder nicht ausfüllen - beinhalten Formeln, die Informationen aus dem Blatt 2 Detailkosten beinhalten.
A16: Bei Bedarf weitere Zeilen einfügen! (Diesen Zeilenkopf mit Mausklick links markieren und dann mit Mausklick rechts -> Zeile einfügen)

Sheet 3 Rechtsmittelverzicht
A1: ='1 Antrag Zuwendung'!#REF! -> #REF!
A2: ='1 Antrag Zuwendung'!C16 -> 0
A3: ='1 Antrag Zuwendung'!C14 -> 0
A4: ='1 Antrag Zuwendung'!C15 -> 0
A9: Bezirksregierung Köln
A10: Dezernat 45 / EU-Geschäftsstelle
A11: Zeughausstr. 2-8
A12: 50667 Köln
A16: Zuwendung des Landes NRW zu EU-kofinanzierten Projekten
A17: hier: | B17: ='1 Antrag Zuwendung'!A24 -> 0
A20: RECHTSMITTELVERZICHT
A23: Gegen den Projekt-Zuwendungsbescheid vom | D23: zu oben genannten Projekt erhebe ich keinen Widerspruch.
A28: Ort, Datum | D28: Unterschrift
D30: ='1 Antrag Zuwendung'!A97 -> 0
D31: Name, Funktion
A33: -> bitte ausfüllen, ausdrucken, unterschreiben, scannen und per Mail an:
A34: maja.schultess@brk.nrw.de (Kopie an thorsten.noelle@brk.nrw.de)

Sheet 4 Auszahlungsanforderung
A1: Auszahlungsanforderung
A3: =IF('1 Antrag Zuwendung'!#REF!="","",'1 Antrag Zuwendung'!#REF!) -> #REF! | D3: Datum
A4: =IF('1 Antrag Zuwendung'!C16="","",'1 Antrag Zuwendung'!C16)
A5: =IF('1 Antrag Zuwendung'!C14="","",'1 Antrag Zuwendung'!C14) | D5: Telefon | E5: ='1 Antrag Zuwendung'!C17 -> 0
A6: =IF('1 Antrag Zuwendung'!C15="","",'1 Antrag Zuwendung'!C15)
A10: Bezirksregierung Köln
A11: Dez 45 / EU-Geschäftsstelle
A12: Zeughausstr. 2-8
A13: 50677 Köln
A17: Projekt-Zuwendungsbescheid vom: | B17: ='3 Rechtsmittelverzicht'!C23 -> 0
A19: Maßnahme | B19: ='1 Antrag Zuwendung'!A24 -> 0
A21: Der Bescheid ist bestandskräftig …
A25: Die bewilligte Zuwendung wird
B26: ='1 Antrag Zuwendung'!F69 -> 0 | C26: angefordert.
C27: angefordert.
A29: Wir bitten um Überweisung des Betrags auf das Konto:
A31: ='1 Antrag Zuwendung'!C19 -> 0 | C31: ='1 Antrag Zuwendung'!C20 -> 0
A33: Sonstige Bemerkungen:
A38: Ort/Datum | C38: Rechtsverbindliche Unterschrift / Stempel

Sheet 5 Verwendungsnachweis
A3: =IF('1 Antrag Zuwendung'!#REF!="","",'1 Antrag Zuwendung'!#REF!) -> #REF!
A4: Zuwendungsempfänger | E4: Ort/ Datum
A7: Bezirksregierung Köln
A8: EU-Geschäftsstelle
A9: Zeughausstr. 2-8
A10: 50667 Köln
A13: Verwendungsnachweis
A16: Betr.: Projekt-Zuwendung der EU-Geschäftsstelle der Bezirksregierung Köln
A18: =IF('1 Antrag Zuwendung'!A24="","",'1 Antrag Zuwendung'!A24)
A21: Durch Zuwendungsbescheid der Bezirksregierung Köln
A23: vom: | B23: ='3 Rechtsmittelverzicht'!C23 -> 0 | C23: Az.:
A25: wurden zur Finanzierung der Maßnahme insgesamt bewilligt
A27: Es wurden ausgezahlt:
A29: I.
A30: Sachbericht
A31: (Kurze Darstellung zu den Inhalten und dem Erreichen der Ziele der durchgeführten Maßnahme:
A36: II.1
A37: Einnahmen
A38: Art | D38: lt. Zuwendungsbescheid | F38: lt. Abrechnung
D39: € | E39: v.H. | F39: € | G39: v.H.
A40: Eigenanteil | D40: 0 | E40: 0 | F40: 0 | G40: 0
A41: Leistungen Dritter | D41: 0 | E41: 0 | F41: 0 | G41: 0
A42: Bewilligte öffentl. Förderung | D42: 0 | E42: 0 | F42: 0 | G42: 0
A43: Projekt-Zuwendung EU-Ges | D43: =G25 -> 0 | E43: 100 | F43: =G54 -> 0 | G43: =F43*100/G25 -> #DIV/0!
A45: Ingesamt | D45: =SUM(D40:D44) -> 0 | E45: =SUM(E40:E44) -> 100 | F45: =SUM(F40:F44) -> 0 | G45: =SUM(G40:G44) -> #DIV/0!
A47: II.2
A48: Ausgaben
A50: Tatsächlich entstanden Kosten: | G50: lt. Abrechnung
G51: zuwendungsfähig
A52: Sachkosten realisiert lt. Belegen | G52: ='2 Detailkosten'!E20 -> 0
A53: Reisekosten realisiert pauschal | G53: ='2 Detailkosten'!D53 -> 0
A54: Gesamt | G54: =SUM(G52:G53) -> 0
A57: III.
A59: Ist-Ergebnis | D59: lt. Zuwendungsbescheid | F59: lt. Abrechnung
A61: Einnahmen II.1 | D61: =D45 -> 0
A62: Ausgaben II.2 | F62: =G54 -> 0
A64: Mehrausgaben/Minderausgaben | F64: =F62-E61 -> 0
A69: IV.
A71: Es wird bestätigt, dass
A73: X | B73: die Allgemeinen und Besonderen Nebenbestimmungen des Zuwendungsbe-
...

Sheet Tabelle1
A1: Ergebnis der Antragsprüfung
A3: Der Antrag auf Gewährung einer Zuwendung des Projekts:
A4: ='4 Auszahlungsanforderung'!B19 -> 0
A5: eingereicht vom Antragssteller: | D5: ='1 Antrag Zuwendung'!#REF! -> #REF!
A6: am: | D6: ='1 Antrag Zuwendung'!A89 -> 0
A8: wird wie beantragt genehmigt. Das Projekt wird gefördert, da es zur Erreichung der Ziele der EU-Geschäftsstelle
A9: als notwendig angesehen wird und die Höhe der Zuwendung angemessen ist.
A10: Die Förderung des Projekts ist vereinbar mit Artikel 107 des Vertrages über die Arbeitsweise der Europäischen Union.
A12: Köln,
A13: gez. Thorsten Noelle (GF EU-Geschäftsstelle)
